BEGIN:VCALENDAR
VERSION:2.0
PRODID:-//wp-events-plugin.com//7.2.3.1//EN
TZID:America/Campo_Grande
X-WR-TIMEZONE:America/Campo_Grande
BEGIN:VEVENT
UID:2@pc.ms.gov.br
DTSTART;TZID=America/Campo_Grande:20250513T001500
DTEND;TZID=America/Campo_Grande:20250513T004500
DTSTAMP:20250512T131325Z
URL:https://www.pc.ms.gov.br/agenda/teste-de-evento/
SUMMARY:teste de evento
DESCRIPTION:asdasdasd
END:VEVENT
BEGIN:VTIMEZONE
TZID:America/Campo_Grande
X-LIC-LOCATION:America/Campo_Grande
BEGIN:STANDARD
DTSTART:20240513T001500
TZOFFSETFROM:-0400
TZOFFSETTO:-0400
TZNAME:-04
END:STANDARD
END:VTIMEZONE
END:VCALENDAR