BEGIN:VCALENDAR
VERSION:2.0
PRODID:-//wp-events-plugin.com//7.2.3.1//EN
TZID:America/Campo_Grande
X-WR-TIMEZONE:America/Campo_Grande
BEGIN:VEVENT
UID:49@pc.ms.gov.br
DTSTART;TZID=America/Campo_Grande:20251128T173000
DTEND;TZID=America/Campo_Grande:20251128T200000
DTSTAMP:20251119T150000Z
URL:https://www.pc.ms.gov.br/agenda/solenidade-de-formatura-oficiais-da-pm
 /
SUMMARY:Solenidade de Formatura Oficiais da PM
DESCRIPTION:Comando Geral da PM
CATEGORIES:Agenda Delegado-Geral
END:VEVENT
BEGIN:VTIMEZONE
TZID:America/Campo_Grande
X-LIC-LOCATION:America/Campo_Grande
BEGIN:STANDARD
DTSTART:20241128T173000
TZOFFSETFROM:-0400
TZOFFSETTO:-0400
TZNAME:-04
END:STANDARD
END:VTIMEZONE
END:VCALENDAR