BEGIN:VCALENDAR
VERSION:2.0
PRODID:-//wp-events-plugin.com//7.2.3.1//EN
TZID:America/Campo_Grande
X-WR-TIMEZONE:America/Campo_Grande
BEGIN:VEVENT
UID:18@pc.ms.gov.br
DTSTART;TZID=America/Campo_Grande:20250616T150000
DTEND;TZID=America/Campo_Grande:20250616T170000
DTSTAMP:20250616T125416Z
URL:https://www.pc.ms.gov.br/agenda/reuniao-conselho-de-ensino-acadepol/
SUMMARY:Reunião Conselho de Ensino - Acadepol
DESCRIPTION:
CATEGORIES:Agenda Delegado-Geral
END:VEVENT
BEGIN:VTIMEZONE
TZID:America/Campo_Grande
X-LIC-LOCATION:America/Campo_Grande
BEGIN:STANDARD
DTSTART:20240616T150000
TZOFFSETFROM:-0400
TZOFFSETTO:-0400
TZNAME:-04
END:STANDARD
END:VTIMEZONE
END:VCALENDAR