BEGIN:VCALENDAR
VERSION:2.0
PRODID:-//wp-events-plugin.com//7.2.3.1//EN
TZID:America/Campo_Grande
X-WR-TIMEZONE:America/Campo_Grande
BEGIN:VEVENT
UID:37@pc.ms.gov.br
DTSTART;TZID=America/Campo_Grande:20250902T093000
DTEND;TZID=America/Campo_Grande:20250902T093000
DTSTAMP:20250901T135614Z
URL:https://www.pc.ms.gov.br/agenda/reuniao-coisec/
SUMMARY:Reunião Coisec
DESCRIPTION:Reunião do Conselho Institucional de Segurança de Campo Grand
 e (COISEC)\n\nLocal: Associação dos Delegados de Polícia Civil (Adepol/
 MS)
END:VEVENT
BEGIN:VTIMEZONE
TZID:America/Campo_Grande
X-LIC-LOCATION:America/Campo_Grande
BEGIN:STANDARD
DTSTART:20240902T093000
TZOFFSETFROM:-0400
TZOFFSETTO:-0400
TZNAME:-04
END:STANDARD
END:VTIMEZONE
END:VCALENDAR