BEGIN:VCALENDAR
VERSION:2.0
PRODID:-//wp-events-plugin.com//7.2.3.1//EN
TZID:America/Campo_Grande
X-WR-TIMEZONE:America/Campo_Grande
BEGIN:VEVENT
UID:35@pc.ms.gov.br
DTSTART;TZID=America/Campo_Grande:20250829T103000
DTEND;TZID=America/Campo_Grande:20250829T103000
DTSTAMP:20250822T211451Z
URL:https://www.pc.ms.gov.br/agenda/passagem-de-comando-no-exercito-brasil
 eiro-comando-militar-do-oeste/
SUMMARY:Passagem de Comando no Exército Brasileiro - Comando Militar Do Oe
 ste
DESCRIPTION:
END:VEVENT
BEGIN:VTIMEZONE
TZID:America/Campo_Grande
X-LIC-LOCATION:America/Campo_Grande
BEGIN:STANDARD
DTSTART:20240829T103000
TZOFFSETFROM:-0400
TZOFFSETTO:-0400
TZNAME:-04
END:STANDARD
END:VTIMEZONE
END:VCALENDAR