BEGIN:VCALENDAR
VERSION:2.0
PRODID:-//wp-events-plugin.com//7.2.3.1//EN
TZID:America/Campo_Grande
X-WR-TIMEZONE:America/Campo_Grande
BEGIN:VEVENT
UID:46@pc.ms.gov.br
DTSTART;TZID=America/Campo_Grande:20251124T140000
DTEND;TZID=America/Campo_Grande:20251124T150000
DTSTAMP:20251119T143646Z
URL:https://www.pc.ms.gov.br/agenda/lancamento-do-projeto-integrajus/
SUMMARY:Lançamento do Projeto Integrajus
DESCRIPTION:Plenário do Tribunal Pleno - Sede do Tribunal de Justiça
CATEGORIES:Agenda Delegado-Geral
END:VEVENT
BEGIN:VTIMEZONE
TZID:America/Campo_Grande
X-LIC-LOCATION:America/Campo_Grande
BEGIN:STANDARD
DTSTART:20241124T140000
TZOFFSETFROM:-0400
TZOFFSETTO:-0400
TZNAME:-04
END:STANDARD
END:VTIMEZONE
END:VCALENDAR