BEGIN:VCALENDAR
VERSION:2.0
PRODID:-//wp-events-plugin.com//7.2.3.1//EN
TZID:America/Campo_Grande
X-WR-TIMEZONE:America/Campo_Grande
BEGIN:VEVENT
UID:41@pc.ms.gov.br
DTSTART;TZID=America/Campo_Grande:20251001T140000
DTEND;TZID=America/Campo_Grande:20251001T140000
DTSTAMP:20250930T131410Z
URL:https://www.pc.ms.gov.br/agenda/lancamento-da-campanha-caixa-encantada
 /
SUMMARY:Lançamento da Campanha Caixa Encantada
DESCRIPTION:Local: Auditório do BioParque Pantanal
END:VEVENT
BEGIN:VTIMEZONE
TZID:America/Campo_Grande
X-LIC-LOCATION:America/Campo_Grande
BEGIN:STANDARD
DTSTART:20241001T140000
TZOFFSETFROM:-0400
TZOFFSETTO:-0400
TZNAME:-04
END:STANDARD
END:VTIMEZONE
END:VCALENDAR