BEGIN:VCALENDAR
VERSION:2.0
PRODID:-//wp-events-plugin.com//7.2.3.1//EN
TZID:America/Campo_Grande
X-WR-TIMEZONE:America/Campo_Grande
BEGIN:VEVENT
UID:50@pc.ms.gov.br
DTSTART;TZID=America/Campo_Grande:20251211T100000
DTEND;TZID=America/Campo_Grande:20251211T120000
DTSTAMP:20251209T140200Z
URL:https://www.pc.ms.gov.br/agenda/inauguracao-sala-lilas/
SUMMARY:Inauguração Sala Lilás
DESCRIPTION:Nioaque&nbsp\;
CATEGORIES:Agenda Delegado-Geral
END:VEVENT
BEGIN:VTIMEZONE
TZID:America/Campo_Grande
X-LIC-LOCATION:America/Campo_Grande
BEGIN:STANDARD
DTSTART:20241211T100000
TZOFFSETFROM:-0400
TZOFFSETTO:-0400
TZNAME:-04
END:STANDARD
END:VTIMEZONE
END:VCALENDAR