BEGIN:VCALENDAR
VERSION:2.0
PRODID:-//wp-events-plugin.com//7.2.3.1//EN
TZID:America/Campo_Grande
X-WR-TIMEZONE:America/Campo_Grande
BEGIN:VEVENT
UID:25@pc.ms.gov.br
DTSTART;TZID=America/Campo_Grande:20250731T160000
DTEND;TZID=America/Campo_Grande:20250731T173000
DTSTAMP:20250724T150055Z
URL:https://www.pc.ms.gov.br/agenda/formatura-de-soldados-da-pm/
SUMMARY:Formatura de Soldados da PM
DESCRIPTION:Formatura da 38ª Turma do Curso de Formação de Soldados da P
 MMS
CATEGORIES:Agenda Delegado-Geral
END:VEVENT
BEGIN:VTIMEZONE
TZID:America/Campo_Grande
X-LIC-LOCATION:America/Campo_Grande
BEGIN:STANDARD
DTSTART:20240731T160000
TZOFFSETFROM:-0400
TZOFFSETTO:-0400
TZNAME:-04
END:STANDARD
END:VTIMEZONE
END:VCALENDAR