BEGIN:VCALENDAR
VERSION:2.0
PRODID:-//wp-events-plugin.com//7.2.3.1//EN
TZID:America/Campo_Grande
X-WR-TIMEZONE:America/Campo_Grande
BEGIN:VEVENT
UID:20@pc.ms.gov.br
DTSTART;TZID=America/Campo_Grande;VALUE=DATE:20250630
DTEND;TZID=America/Campo_Grande;VALUE=DATE:20250704
DTSTAMP:20250630T131003Z
URL:https://www.pc.ms.gov.br/agenda/conferencia-de-seguranca-publica-ilab-
 seguranca/
SUMMARY:Conferência de Segurança Publica iLab-Segurança
DESCRIPTION:
CATEGORIES:Agenda Delegado-Geral
END:VEVENT
BEGIN:VTIMEZONE
TZID:America/Campo_Grande
X-LIC-LOCATION:America/Campo_Grande
BEGIN:STANDARD
DTSTART:20240630T000000
TZOFFSETFROM:-0400
TZOFFSETTO:-0400
TZNAME:-04
END:STANDARD
END:VTIMEZONE
END:VCALENDAR