BEGIN:VCALENDAR
VERSION:2.0
PRODID:-//wp-events-plugin.com//7.2.3.1//EN
TZID:America/Campo_Grande
X-WR-TIMEZONE:America/Campo_Grande
BEGIN:VEVENT
UID:51@pc.ms.gov.br
DTSTART;TZID=America/Campo_Grande:20260127T150000
DTEND;TZID=America/Campo_Grande:20260127T170000
DTSTAMP:20260126T175804Z
URL:https://www.pc.ms.gov.br/agenda/aula-inaugural-do-curso-de-formacao-po
 liciail-2026/
SUMMARY:Aula Inaugural do Curso de Formação Policiail 2026
DESCRIPTION:
CATEGORIES:Agenda Delegado-Geral
END:VEVENT
BEGIN:VTIMEZONE
TZID:America/Campo_Grande
X-LIC-LOCATION:America/Campo_Grande
BEGIN:STANDARD
DTSTART:20250127T150000
TZOFFSETFROM:-0400
TZOFFSETTO:-0400
TZNAME:-04
END:STANDARD
END:VTIMEZONE
END:VCALENDAR