BEGIN:VCALENDAR
VERSION:2.0
PRODID:-//wp-events-plugin.com//7.2.3.1//EN
TZID:America/Campo_Grande
X-WR-TIMEZONE:America/Campo_Grande
BEGIN:VEVENT
UID:28@pc.ms.gov.br
DTSTART;TZID=America/Campo_Grande:20250806T140000
DTEND;TZID=America/Campo_Grande:20250806T150000
DTSTAMP:20250804T121327Z
URL:https://www.pc.ms.gov.br/agenda/agenda-interna-9/
SUMMARY:Agenda Interna
DESCRIPTION:Reunião com o dr. Lucas Caires - Coisec - Conselho Institucion
 al de Segurança de Campo Grande
CATEGORIES:Agenda Delegado-Geral
END:VEVENT
BEGIN:VTIMEZONE
TZID:America/Campo_Grande
X-LIC-LOCATION:America/Campo_Grande
BEGIN:STANDARD
DTSTART:20240806T140000
TZOFFSETFROM:-0400
TZOFFSETTO:-0400
TZNAME:-04
END:STANDARD
END:VTIMEZONE
END:VCALENDAR