BEGIN:VCALENDAR
VERSION:2.0
PRODID:-//wp-events-plugin.com//7.2.3.1//EN
TZID:America/Campo_Grande
X-WR-TIMEZONE:America/Campo_Grande
BEGIN:VEVENT
UID:39@pc.ms.gov.br
DTSTART;TZID=America/Campo_Grande:20250923T103000
DTEND;TZID=America/Campo_Grande:20250923T113000
DTSTAMP:20250922T131618Z
URL:https://www.pc.ms.gov.br/agenda/agenda-interna-11/
SUMMARY:Agenda Interna
DESCRIPTION:Viviane Luiza da Silva - Secretária da Cidadania
CATEGORIES:Agenda Delegado-Geral
END:VEVENT
BEGIN:VTIMEZONE
TZID:America/Campo_Grande
X-LIC-LOCATION:America/Campo_Grande
BEGIN:STANDARD
DTSTART:20240923T103000
TZOFFSETFROM:-0400
TZOFFSETTO:-0400
TZNAME:-04
END:STANDARD
END:VTIMEZONE
END:VCALENDAR