BEGIN:VCALENDAR
VERSION:2.0
PRODID:-//wp-events-plugin.com//7.2.3.1//EN
TZID:America/Campo_Grande
X-WR-TIMEZONE:America/Campo_Grande
BEGIN:VEVENT
UID:32@pc.ms.gov.br
DTSTART;TZID=America/Campo_Grande:20250822T100000
DTEND;TZID=America/Campo_Grande:20250822T113000
DTSTAMP:20250818T180408Z
URL:https://www.pc.ms.gov.br/agenda/agenda-externa-9/
SUMMARY:Agenda Externa
DESCRIPTION:Solenidade alusiva ao Dia do Soldado - Comando Militar do Oeste
CATEGORIES:Agenda Delegado-Geral
END:VEVENT
BEGIN:VTIMEZONE
TZID:America/Campo_Grande
X-LIC-LOCATION:America/Campo_Grande
BEGIN:STANDARD
DTSTART:20240822T100000
TZOFFSETFROM:-0400
TZOFFSETTO:-0400
TZNAME:-04
END:STANDARD
END:VTIMEZONE
END:VCALENDAR