BEGIN:VCALENDAR
VERSION:2.0
PRODID:-//wp-events-plugin.com//7.2.3.1//EN
TZID:America/Campo_Grande
X-WR-TIMEZONE:America/Campo_Grande
BEGIN:VEVENT
UID:30@pc.ms.gov.br
DTSTART;TZID=America/Campo_Grande:20250815T103000
DTEND;TZID=America/Campo_Grande:20250815T113000
DTSTAMP:20250813T125017Z
URL:https://www.pc.ms.gov.br/agenda/agenda-externa-8/
SUMMARY:Agenda Externa
DESCRIPTION:Passagem de Comando da 9ª Região Militar.
CATEGORIES:Agenda Delegado-Geral
END:VEVENT
BEGIN:VTIMEZONE
TZID:America/Campo_Grande
X-LIC-LOCATION:America/Campo_Grande
BEGIN:STANDARD
DTSTART:20240815T103000
TZOFFSETFROM:-0400
TZOFFSETTO:-0400
TZNAME:-04
END:STANDARD
END:VTIMEZONE
END:VCALENDAR