BEGIN:VCALENDAR
VERSION:2.0
PRODID:-//wp-events-plugin.com//7.2.3.1//EN
TZID:America/Campo_Grande
X-WR-TIMEZONE:America/Campo_Grande
BEGIN:VEVENT
UID:29@pc.ms.gov.br
DTSTART;TZID=America/Campo_Grande:20250813T140000
DTEND;TZID=America/Campo_Grande:20250813T170000
DTSTAMP:20250813T124827Z
URL:https://www.pc.ms.gov.br/agenda/agenda-externa-7/
SUMMARY:Agenda externa
DESCRIPTION:Reunião na Governadoria para apresentação de ações da estr
 atégicas.
CATEGORIES:Agenda Delegado-Geral
END:VEVENT
BEGIN:VTIMEZONE
TZID:America/Campo_Grande
X-LIC-LOCATION:America/Campo_Grande
BEGIN:STANDARD
DTSTART:20240813T140000
TZOFFSETFROM:-0400
TZOFFSETTO:-0400
TZNAME:-04
END:STANDARD
END:VTIMEZONE
END:VCALENDAR