BEGIN:VCALENDAR
VERSION:2.0
PRODID:-//wp-events-plugin.com//7.2.3.1//EN
TZID:America/Campo_Grande
X-WR-TIMEZONE:America/Campo_Grande
BEGIN:VEVENT
UID:10@pc.ms.gov.br
DTSTART;TZID=America/Campo_Grande:20250527T170000
DTEND;TZID=America/Campo_Grande:20250527T190000
DTSTAMP:20250527T143941Z
URL:https://www.pc.ms.gov.br/agenda/agenda-externa-4/
SUMMARY:Agenda Externa
DESCRIPTION:Casa da Mulher Brasileira
CATEGORIES:Agenda Delegado-Geral
END:VEVENT
BEGIN:VTIMEZONE
TZID:America/Campo_Grande
X-LIC-LOCATION:America/Campo_Grande
BEGIN:STANDARD
DTSTART:20240527T170000
TZOFFSETFROM:-0400
TZOFFSETTO:-0400
TZNAME:-04
END:STANDARD
END:VTIMEZONE
END:VCALENDAR