BEGIN:VCALENDAR
VERSION:2.0
PRODID:-//wp-events-plugin.com//7.2.3.1//EN
TZID:America/Campo_Grande
X-WR-TIMEZONE:America/Campo_Grande
BEGIN:VEVENT
UID:9@pc.ms.gov.br
DTSTART;TZID=America/Campo_Grande:20250523T183000
DTEND;TZID=America/Campo_Grande:20250523T210000
DTSTAMP:20250522T113852Z
URL:https://www.pc.ms.gov.br/agenda/agenda-externa-3/
SUMMARY:Agenda Externa
DESCRIPTION:1º Congresso de Direito e Segurança Pública do MS - Faculdad
 e Prime
CATEGORIES:Agenda Delegado-Geral
END:VEVENT
BEGIN:VTIMEZONE
TZID:America/Campo_Grande
X-LIC-LOCATION:America/Campo_Grande
BEGIN:STANDARD
DTSTART:20240523T183000
TZOFFSETFROM:-0400
TZOFFSETTO:-0400
TZNAME:-04
END:STANDARD
END:VTIMEZONE
END:VCALENDAR