BEGIN:VCALENDAR
VERSION:2.0
PRODID:-//wp-events-plugin.com//7.2.3.1//EN
TZID:America/Campo_Grande
X-WR-TIMEZONE:America/Campo_Grande
BEGIN:VEVENT
UID:36@pc.ms.gov.br
DTSTART;TZID=America/Campo_Grande:20250829T193000
DTEND;TZID=America/Campo_Grande:20250829T193000
DTSTAMP:20250822T211824Z
URL:https://www.pc.ms.gov.br/agenda/agenda-externa-10/
SUMMARY:Agenda Externa
DESCRIPTION:Concessão da Ordem do Mérito Eleitoral do Tribunal Regional E
 leitoral (TRE).\n\nLocal: Gran Murano
END:VEVENT
BEGIN:VTIMEZONE
TZID:America/Campo_Grande
X-LIC-LOCATION:America/Campo_Grande
BEGIN:STANDARD
DTSTART:20240829T193000
TZOFFSETFROM:-0400
TZOFFSETTO:-0400
TZNAME:-04
END:STANDARD
END:VTIMEZONE
END:VCALENDAR